BEGIN:VCALENDAR
VERSION:2.0
PRODID:-//MagnoliaTree - ECPv6.15.20//NONSGML v1.0//EN
CALSCALE:GREGORIAN
METHOD:PUBLISH
X-WR-CALNAME:MagnoliaTree
X-ORIGINAL-URL:https://magnoliatree.org/?lang=en
X-WR-CALDESC:Events for MagnoliaTree
REFRESH-INTERVAL;VALUE=DURATION:PT1H
X-Robots-Tag:noindex
X-PUBLISHED-TTL:PT1H
BEGIN:VTIMEZONE
TZID:UTC
BEGIN:STANDARD
TZOFFSETFROM:+0000
TZOFFSETTO:+0000
TZNAME:UTC
DTSTART:20210101T000000
END:STANDARD
END:VTIMEZONE
BEGIN:VTIMEZONE
TZID:Europe/Berlin
BEGIN:DAYLIGHT
TZOFFSETFROM:+0100
TZOFFSETTO:+0200
TZNAME:CEST
DTSTART:20210328T010000
END:DAYLIGHT
BEGIN:STANDARD
TZOFFSETFROM:+0200
TZOFFSETTO:+0100
TZNAME:CET
DTSTART:20211031T010000
END:STANDARD
BEGIN:DAYLIGHT
TZOFFSETFROM:+0100
TZOFFSETTO:+0200
TZNAME:CEST
DTSTART:20220327T010000
END:DAYLIGHT
BEGIN:STANDARD
TZOFFSETFROM:+0200
TZOFFSETTO:+0100
TZNAME:CET
DTSTART:20221030T010000
END:STANDARD
BEGIN:DAYLIGHT
TZOFFSETFROM:+0100
TZOFFSETTO:+0200
TZNAME:CEST
DTSTART:20230326T010000
END:DAYLIGHT
BEGIN:STANDARD
TZOFFSETFROM:+0200
TZOFFSETTO:+0100
TZNAME:CET
DTSTART:20231029T010000
END:STANDARD
END:VTIMEZONE
BEGIN:VTIMEZONE
TZID:Europe/Vienna
BEGIN:DAYLIGHT
TZOFFSETFROM:+0100
TZOFFSETTO:+0200
TZNAME:CEST
DTSTART:20210328T010000
END:DAYLIGHT
BEGIN:STANDARD
TZOFFSETFROM:+0200
TZOFFSETTO:+0100
TZNAME:CET
DTSTART:20211031T010000
END:STANDARD
BEGIN:DAYLIGHT
TZOFFSETFROM:+0100
TZOFFSETTO:+0200
TZNAME:CEST
DTSTART:20220327T010000
END:DAYLIGHT
BEGIN:STANDARD
TZOFFSETFROM:+0200
TZOFFSETTO:+0100
TZNAME:CET
DTSTART:20221030T010000
END:STANDARD
BEGIN:DAYLIGHT
TZOFFSETFROM:+0100
TZOFFSETTO:+0200
TZNAME:CEST
DTSTART:20230326T010000
END:DAYLIGHT
BEGIN:STANDARD
TZOFFSETFROM:+0200
TZOFFSETTO:+0100
TZNAME:CET
DTSTART:20231029T010000
END:STANDARD
END:VTIMEZONE
BEGIN:VEVENT
DTSTART;TZID=UTC:20231004T183000
DTEND;TZID=UTC:20231004T200000
DTSTAMP:20260425T024316
CREATED:20230925T080535Z
LAST-MODIFIED:20230926T174750Z
UID:10756-1696444200-1696449600@magnoliatree.org
SUMMARY:Live Podcast: Gore-Tex Leadership\, Culture & Identity with Jenny Hoffmann (Global Business Operations) at W.L. Gore & Associates
DESCRIPTION:Register here!\nExperience this special edition of our podcast firsthand. Not only will Jenny Hoffmann share exclusive insights into her leadership and growth journey\, but this episode will also be interactive! Engage directly in a live session with Jenny and our host – Sabine Gromer – and be a part of the conversation. \nLanguage: English \nName *Email-Address *ConsentI agree to the processing of my data during the process of the event registration until the end of the event. ConsentBy attending this event\, I agree to grant permission and give my consent to MagnoliaTree for the use of photographs and videos taken during the event. \nI understand that I may revoke this authorization at any time by notifying MagnoliaTree. The revocation will not affect any actions taken before the receipt of this notification. Images will be stored in a secure location and only authorized staff will have access to them\, they will be kept as long as they are relevant\, and after that time destroyed or archived. Further InfoI would like to be informed about further events\, news and courses and agree to the use of my e-mail address for this purpose.Register
URL:https://magnoliatree.org/event/live-podcast-leadership-culture-identity-with-jenny-hoffmann-global-business-operations-at-w-l-gore-associates/?lang=en
LOCATION:online
ATTACH;FMTTYPE=image/png:https://magnoliatree.org/wp-content/uploads/2023/09/IMG_7553.png
ORGANIZER;CN="MagnoliaTree Academy":MAILTO:office@magnoliatree.org
END:VEVENT
BEGIN:VEVENT
DTSTART;VALUE=DATE:20230913
DTEND;VALUE=DATE:20231201
DTSTAMP:20260425T024316
CREATED:20230713T081845Z
LAST-MODIFIED:20230713T081845Z
UID:10521-1694563200-1701388799@magnoliatree.org
SUMMARY:Leadership Triads
DESCRIPTION:Become part of a Leadership Triad and get to know yourself and others in a new way. \nThe Leadership Triads is a program developed by MagnoliaTree Academy that focuses on a regular exchange of people in groups of three each\, which allows receiving new impulses and feedback in a very appreciative and protected way. \nTarget Group\nThe target group is a colorful mix of leaders from for- and non-profit organizations. Through this diversity and getting to know each other\, you will reach a great level of experience. It will be randomly decided with whom you will be drawn into a group. So be curious! \nTrainers\nElke Pichler and Holger Gromer \nClick here for more details and registration
URL:https://magnoliatree.org/event/leadership-triads/?lang=en
LOCATION:online
ATTACH;FMTTYPE=image/png:https://magnoliatree.org/wp-content/uploads/2023/07/TrainerinTriaden.png
ORGANIZER;CN="MagnoliaTree Academy":MAILTO:office@magnoliatree.org
END:VEVENT
BEGIN:VEVENT
DTSTART;TZID=UTC:20230831T180000
DTEND;TZID=UTC:20230831T220000
DTSTAMP:20260425T024316
CREATED:20230308T071050Z
LAST-MODIFIED:20230308T075256Z
UID:9715-1693504800-1693519200@magnoliatree.org
SUMMARY:Full Moon Hike for Leaders
DESCRIPTION:On May 5\, we invite you to a full moon hike for leaders led by Peter Wirthumer\, Alpine Club tour guide. \nNew places give new inspiration\, new people give rise to new relationships and movement often brings order to one’s thoughts. \nThis is what we want to pick up with our leadership hike. In a small group we will go on a hike together on May 5 in the 19th district. In addition to impulses and reflection\, there will also be the opportunity to make new contacts. We provide the provisions – for body and soul. \nCost: EUR 42 net\nLocation: 1190 Vienna (the exact meeting point will be given to you before the start of the hike)\nTime of the meeting point: 6:00pm \nRegistration\nName *Email-Address *Billing addressIf necessary\, enter a billing address and - if desired - your VAT-ID here.Consent *I agree to the processing of my data during the process of the event registration until the end of the event. Consent *By attending this event\, I agree to grant permission and give my consent to MagnoliaTree for the use of photographs and videos taken during the event. \nI understand that I may revoke this authorization at any time by notifying MagnoliaTree. The revocation will not affect any actions taken before the receipt of this notification. Images will be stored in a secure location and only authorized staff will have access to them\, they will be kept as long as they are relevant\, and after that time destroyed or archived. Consent *There is an increased risk of injury and accidents during hikes. This risk cannot be excluded even through careful planning. Participation is therefore on your own responsibility and at your own risk. MagnoliaTree assumes no liability for damages or injuries that may occur during the hike. \nThis is expressly confirmed by me through my registration. Further InfosI would like to be informed about further events\, news and courses and agree to the use of my e-mail address for this purpose.Register\n 
URL:https://magnoliatree.org/event/full-moon-hike-for-leaders/?lang=en
LOCATION:1190 Wien\, Donaustraße 22\, Wien\, Wien\, 1190\, Österreich
ATTACH;FMTTYPE=image/jpeg:https://magnoliatree.org/wp-content/uploads/2023/02/Vollmondwanderung-4.jpg
ORGANIZER;CN="MagnoliaTree Academy":MAILTO:office@magnoliatree.org
END:VEVENT
BEGIN:VEVENT
DTSTART;TZID=UTC:20230607T180000
DTEND;TZID=UTC:20230607T190000
DTSTAMP:20260425T024316
CREATED:20230511T085458Z
LAST-MODIFIED:20230526T085930Z
UID:10197-1686160800-1686164400@magnoliatree.org
SUMMARY:Live Podcast - Shared Leadership
DESCRIPTION:Shared Leadership\nA Live Podcast Event with Sabine Gromer \nExploring the concept of shared leadership and how it can transform organisations and communities \nGuests: \nNicole Reitinger – Chief Business Development and Transformation Officer at IKEA Austria \nGerhard Müller – Former member of the Management Team at IKEA Austria\, Japan\, the Netherlands \nLanguage: English \nA must-attend event for anyone interested in the future of leadership. Register now! \nRegistration\nName *Email-Address *ConsentI agree to the processing of my data during the process of the event registration until the end of the event. ConsentBy attending this event\, I agree to grant permission and give my consent to MagnoliaTree for the use of photographs and videos taken during the event. \nI understand that I may revoke this authorization at any time by notifying MagnoliaTree. The revocation will not affect any actions taken before the receipt of this notification. Images will be stored in a secure location and only authorized staff will have access to them\, they will be kept as long as they are relevant\, and after that time destroyed or archived. Further InfoI would like to be informed about further events\, news and courses and agree to the use of my e-mail address for this purpose.Register
URL:https://magnoliatree.org/event/live-podcast-shared-leadership/?lang=en
LOCATION:online
ATTACH;FMTTYPE=image/jpeg:https://magnoliatree.org/wp-content/uploads/2023/05/Live-Podcast-Shared-Leadership-1.jpg
END:VEVENT
BEGIN:VEVENT
DTSTART;TZID=UTC:20230223T080000
DTEND;TZID=UTC:20230223T090000
DTSTAMP:20260425T024316
CREATED:20221223T081852Z
LAST-MODIFIED:20221223T081852Z
UID:9555-1677139200-1677142800@magnoliatree.org
SUMMARY:Peer Group Session
DESCRIPTION:Peer Group Session\nAt this monthly event we create a space for open discussion and knowledge sharing between all participants. The topics can be brought by the participants or will be prepared by MagnoliaTree Academy. \nTopic of this session: Targets \nOur next session will take place on February 23 between 8 and 9 am (CEST). \nThis session will be held in german language. \nRegistration\nName *Email Address *Consent *I agree to the processing of my data during the process of the event registration until the end of the event. Consent *By attending this event\, I agree to grant permission and give my consent to MagnoliaTree for the use of photographs and videos taken during the event. \n  \nI understand that I may revoke this authorization at any time by notifying MagnoliaTree. The revocation will not affect any actions taken before the receipt of this notification. Images will be stored in a secure location and only authorized staff will have access to them\, they will be kept as long as they are relevant\, and after that time destroyed or archived. Further infosI would like to be informed about further events\, news and courses and agree to the use of my e-mail address for this purpose.Register
URL:https://magnoliatree.org/event/peer-group-session-4/?lang=en
LOCATION:online
ATTACH;FMTTYPE=image/jpeg:https://magnoliatree.org/wp-content/uploads/2022/09/Untitled-design-3.jpg
ORGANIZER;CN="MagnoliaTree Academy":MAILTO:office@magnoliatree.org
END:VEVENT
BEGIN:VEVENT
DTSTART;TZID=UTC:20230126T080000
DTEND;TZID=UTC:20230126T090000
DTSTAMP:20260425T024316
CREATED:20221223T081722Z
LAST-MODIFIED:20221223T081722Z
UID:9553-1674720000-1674723600@magnoliatree.org
SUMMARY:Peer Group
DESCRIPTION:Peer Group Session\nAt this monthly event we create a space for open discussion and knowledge sharing between all participants. The topics can be brought by the participants or will be prepared by MagnoliaTree Academy. \nTopic of this session: Annual reflection \nOur next session will take place on January 26 between 8 and 9 am (CEST). \nThis session will be held in german language. \nRegistration\nName *Email Address *Consent *I agree to the processing of my data during the process of the event registration until the end of the event. Consent *By attending this event\, I agree to grant permission and give my consent to MagnoliaTree for the use of photographs and videos taken during the event. \n  \nI understand that I may revoke this authorization at any time by notifying MagnoliaTree. The revocation will not affect any actions taken before the receipt of this notification. Images will be stored in a secure location and only authorized staff will have access to them\, they will be kept as long as they are relevant\, and after that time destroyed or archived. Further infosI would like to be informed about further events\, news and courses and agree to the use of my e-mail address for this purpose.Register
URL:https://magnoliatree.org/event/peer-group/?lang=en
LOCATION:online
ATTACH;FMTTYPE=image/jpeg:https://magnoliatree.org/wp-content/uploads/2022/09/Untitled-design-3.jpg
ORGANIZER;CN="MagnoliaTree Academy":MAILTO:office@magnoliatree.org
END:VEVENT
BEGIN:VEVENT
DTSTART;TZID=UTC:20221229T140000
DTEND;TZID=UTC:20221229T180000
DTSTAMP:20260425T024316
CREATED:20221028T101759Z
LAST-MODIFIED:20221028T101931Z
UID:9256-1672322400-1672336800@magnoliatree.org
SUMMARY:Workshop and Reflection: Vision Board for 2023
DESCRIPTION:Workshop and Reflection: Vision Board for 2023\nHybrid Event\n29.12.2022  14:00-18:00 \nBetween Christmas and New Year’s is an exceptional time in many cultures. In German\, we call it “Raunächte”.\n\nThese days and nights are a great opportunity to reflect our year 2022 and write our very own vision for the next year. On the 29th of December\, we invite you to our coaching location at the danube or to join us virtually to a vision boarding session. We have 6 spots in our coaching location. We apply the first-come-first-served principle for registrations.\n\n  \nVirtual participation: 19 Euro\nParticipation in our Coaching Location in Vienna: 35 Euro\n  \n\nIf you are participating virtually\, you will get a checklist with everything you need.\n\nIf you are participating in our Cabana\, we will prepare everything for you\, including small snacks and drinks.\n\nRegister\n\nName *Email-Address *Billing addressPlease enter your billing address here. Add your VAT-ID if applicable.Choose your packagePackageParticipation on site à 35 EURVirtual Participation à 19 EURConsent *I agree to the processing of my data during the process of the event registration until the end of the event. Consent *By attending this event\, I agree to grant permission and give my consent to MagnoliaTree for the use of photographs and videos taken during the event. \n  \nI understand that I may revoke this authorization at any time by notifying MagnoliaTree. The revocation will not affect any actions taken before the receipt of this notification. Images will be stored in a secure location and only authorized staff will have access to them\, they will be kept as long as they are relevant\, and after that time destroyed or archived. Further infosI would like to be informed about further events\, news and courses and agree to the use of my e-mail address for this purpose.Register\n 
URL:https://magnoliatree.org/event/workshop-and-reflection-vision-board-for-2023/?lang=en
LOCATION:Donaustraße 22\, 1190 Wien\, Donaustraße 22\, Wien\, Wien\, 1190\, Österreich
ATTACH;FMTTYPE=image/jpeg:https://magnoliatree.org/wp-content/uploads/2022/10/Untitled-design-4.jpg
ORGANIZER;CN="MagnoliaTree Academy":MAILTO:office@magnoliatree.org
END:VEVENT
BEGIN:VEVENT
DTSTART;TZID=Europe/Berlin:20221124T133000
DTEND;TZID=Europe/Berlin:20221124T150000
DTSTAMP:20260425T024316
CREATED:20221018T061946Z
LAST-MODIFIED:20221111T171439Z
UID:9138-1669296600-1669302000@magnoliatree.org
SUMMARY:Dragon & Self Development
DESCRIPTION:Interactive Keynote\nDragon and Self Development\nAn Oriental Take on Creative Energies\nwith Qi Zhang \nVirtual Event\nNovember 24th\, 2022\n13:30 – 15:00 (CET)\n7:30am – 9:00am (EDT)\nvia Zoom \nEast and west have very different associations with the image of the dragon. What\, for one\, is the symbol of power and creativity; for the other\, is cruelty and destructive force. In this workshop\, we will explore the myth of the dragon\, a journey to explore the tale of our creative energy. How to develop our talent? How to go with time? How to bind the two sides of creative and destructive on our path of self-development? How to recognize and align the inner dragon with the dragon energy in the outer world? How to “live” our dragon to its full potential and be connected to a higher purpose to serve? We will also use the dragon symbol to explore situational leadership—the light and shadow side of good and bad leadership and why. \nAbout Qi Zhang\nQi Zhang is a leadership coach and entrepreneur. Qi’s own life course is an embodiment of change management. She specializes in ancient Chinese wisdom (she has a profound knowledge about iChing and its application)\, Jungian depth psychology\, and group dynamics. Qi is experienced working with individuals and groups to address complex leadership and culture change challenges. Her ability to bridge the East and West\, and more specifically combine the iChing wisdom with personal and organizational development enables her clients to quickly arrive at rich understanding and broader perspectives about their role and the context they are in. In so doing\, she facilitates the client to release their great potentials to bring meaningful changes to the world\, and to take responsible action with choices instead of impulses. \nRegistration\nName *Email Address *Consent *I agree to the processing of my data during the process of the event registration until the end of the event. Consent *By attending this event\, I agree to grant permission and give my consent to MagnoliaTree for the use of photographs and videos taken during the event. \n  \nI understand that I may revoke this authorization at any time by notifying MagnoliaTree. The revocation will not affect any actions taken before the receipt of this notification. Images will be stored in a secure location and only authorized staff will have access to them\, they will be kept as long as they are relevant\, and after that time destroyed or archived. Further infosI would like to be informed about further events\, news and courses and agree to the use of my e-mail address for this purpose.Register
URL:https://magnoliatree.org/event/dragon-self-development/?lang=en
LOCATION:online
ATTACH;FMTTYPE=image/jpeg:https://magnoliatree.org/wp-content/uploads/2022/10/Untitled-design.jpg
ORGANIZER;CN="MagnoliaTree Academy":MAILTO:office@magnoliatree.org
END:VEVENT
BEGIN:VEVENT
DTSTART;TZID=UTC:20221117T080000
DTEND;TZID=UTC:20221117T090000
DTSTAMP:20260425T024316
CREATED:20221025T064927Z
LAST-MODIFIED:20221025T064927Z
UID:9236-1668672000-1668675600@magnoliatree.org
SUMMARY:Peer Group Session
DESCRIPTION:Peer Group Session\nAt this monthly event we create a space for open discussion and knowledge sharing between all participants. The topics can be brought by the participants or will be prepared by MagnoliaTree Academy. \nTopic of this session: Metaphors & Stories – Best-of and use in the professional context  \nOur next session will take place on November 17 between 8 and 9 am (CEST). \nThis session will be held in german language. \nRegistration\nName *Email Address *Consent *I agree to the processing of my data during the process of the event registration until the end of the event. Consent *By attending this event\, I agree to grant permission and give my consent to MagnoliaTree for the use of photographs and videos taken during the event. \n  \nI understand that I may revoke this authorization at any time by notifying MagnoliaTree. The revocation will not affect any actions taken before the receipt of this notification. Images will be stored in a secure location and only authorized staff will have access to them\, they will be kept as long as they are relevant\, and after that time destroyed or archived. Further infosI would like to be informed about further events\, news and courses and agree to the use of my e-mail address for this purpose.Register
URL:https://magnoliatree.org/event/peer-group-session-3/?lang=en
LOCATION:online
ATTACH;FMTTYPE=image/jpeg:https://magnoliatree.org/wp-content/uploads/2022/09/Untitled-design-3.jpg
ORGANIZER;CN="MagnoliaTree Academy":MAILTO:office@magnoliatree.org
END:VEVENT
BEGIN:VEVENT
DTSTART;TZID=Europe/Vienna:20221020T080000
DTEND;TZID=Europe/Vienna:20221020T090000
DTSTAMP:20260425T024316
CREATED:20220914T103714Z
LAST-MODIFIED:20220914T104052Z
UID:9104-1666252800-1666256400@magnoliatree.org
SUMMARY:Peer Group Session
DESCRIPTION:Peer Group Session\nAt this monthly event we create a space for open discussion and knowledge sharing between all participants. The topics can be brought by the participants or will be prepared by MagnoliaTree Academy. \nOur next session will take place on October 20 between 8 and 9 am (CEST). \nThis session will be held in german language. \nRegistration\nName *Email Address *Consent *I agree to the processing of my data during the process of the event registration until the end of the event. Consent *By attending this event\, I agree to grant permission and give my consent to MagnoliaTree for the use of photographs and videos taken during the event. \n  \nI understand that I may revoke this authorization at any time by notifying MagnoliaTree. The revocation will not affect any actions taken before the receipt of this notification. Images will be stored in a secure location and only authorized staff will have access to them\, they will be kept as long as they are relevant\, and after that time destroyed or archived. Further infosI would like to be informed about further events\, news and courses and agree to the use of my e-mail address for this purpose.Register
URL:https://magnoliatree.org/event/peer-group-session-2/?lang=en
LOCATION:online
ATTACH;FMTTYPE=image/jpeg:https://magnoliatree.org/wp-content/uploads/2022/09/Untitled-design-3.jpg
ORGANIZER;CN="MagnoliaTree Academy":MAILTO:office@magnoliatree.org
END:VEVENT
BEGIN:VEVENT
DTSTART;TZID=Europe/Vienna:20220927T140000
DTEND;TZID=Europe/Vienna:20220927T153000
DTSTAMP:20260425T024316
CREATED:20220822T062325Z
LAST-MODIFIED:20220905T050420Z
UID:8914-1664287200-1664292600@magnoliatree.org
SUMMARY:Leadership Perspective:  Recoding Our Approach to Adversity
DESCRIPTION:Interactive Keynote\nVirtual Event \n27. September 2022\nAT-Zeit: 14:00-15:30\nNY-Zeit: 8:00-9:30\n\n\n\n  \n  \n\nCovid-19\, the climate crisis\, war\, economic uncertainty – we are living in a time of high volatility and ambiguity. In this interactive session\, you’ll learn that you already have what it takes to lead responsibly by making small changes to how you approach difficult moments. \nAbout Leonidas Marin\n\nLeadership Experience Manager | Organizational Psychology Professional\nGoogle NY\nColumbia University Master’s Degree\, Organizational Psychology: Change Leadership\nUS Army Ceremonial Officer (Captain)\n\n  \nLeo Marin will facilitate a 90 minute workshop specifically designed for leaders of organizations that face constant adversity. A former Captain in the US Army with combat experience in Iraq\, Leo now works in Leadership Development at a major tech-company and leads a small business\, VeteranDriven LLC. He has a Master’s Degree in Organizational Psychology from Columbia University and lives in New York City. \nWe are looking forward to spending 90 interactive and inspiring minutes with you! \nRegister here
URL:https://magnoliatree.org/event/leading-in-times-of-hardship/?lang=en
LOCATION:online
ATTACH;FMTTYPE=image/jpeg:https://magnoliatree.org/wp-content/uploads/2022/08/Untitled-design-4.jpg
ORGANIZER;CN="MagnoliaTree Academy":MAILTO:office@magnoliatree.org
END:VEVENT
BEGIN:VEVENT
DTSTART;TZID=Europe/Vienna:20220915T080000
DTEND;TZID=Europe/Vienna:20220915T090000
DTSTAMP:20260425T024316
CREATED:20220831T060027Z
LAST-MODIFIED:20220831T060116Z
UID:9020-1663228800-1663232400@magnoliatree.org
SUMMARY:Peer Group Session
DESCRIPTION:Peer Group Session\nIn this monthly event\, we create a space for open discussions and knowledge exchange between all the participants. Topics can be contributed by the participants or are prepared by MagnoliaTree Academy. \nOur next session will be on the 15th of September between 8 am and 9 am (CEST). \nWe will discuss Team-Meetings and how to create an atmosphere of creativity\, belonging\, and openness. \nThis meeting will be held in german language. \nRegistration\nName *Email Address *Consent *I agree to the processing of my data during the process of the event registration until the end of the event. Consent *By attending this event\, I agree to grant permission and give my consent to MagnoliaTree for the use of photographs and videos taken during the event. \n  \nI understand that I may revoke this authorization at any time by notifying MagnoliaTree. The revocation will not affect any actions taken before the receipt of this notification. Images will be stored in a secure location and only authorized staff will have access to them\, they will be kept as long as they are relevant\, and after that time destroyed or archived. Further infosI would like to be informed about further events\, news and courses and agree to the use of my e-mail address for this purpose.Register
URL:https://magnoliatree.org/event/peer-group-session/?lang=en
LOCATION:online
ATTACH;FMTTYPE=image/jpeg:https://magnoliatree.org/wp-content/uploads/2022/08/compare-fibre-fRGoTJFQAHM-unsplash.jpg
ORGANIZER;CN="MagnoliaTree Academy":MAILTO:office@magnoliatree.org
END:VEVENT
END:VCALENDAR